BEGIN:VCALENDAR
VERSION:2.0
PRODID:-//Gestor de Eventos//NONSGML v1.0//ES
BEGIN:VEVENT
UID:3a47dfb4a2686e1ae1f37036cc2807d7@capitole-consulting.com
SUMMARY:Ceguera estratégica: La IA cambia la toma de decisiones
DESCRIPTION:Evento: Ceguera estratégica: La IA cambia la toma de decisiones - https://www.capitole-consulting.com/blog/evento/ceguera-estrategica-la-ia-cambia-la-toma-de-decisiones/\n\nÚnete al evento: https://teams.microsoft.com/meet/36008594508315?p=gdKMQcQRTSRX1ASFda
DTSTART:20260219T180000
DTEND:20260219T190000
LOCATION:Online
END:VEVENT
END:VCALENDAR
